BEGIN:VCALENDAR
VERSION:2.0
PRODID:-//eventon.com NONSGML v1.0//EN
CALSCALE:GREGORIAN
METHOD:PUBLISH
BEGIN:VEVENT
UID:69eb73a3d8acf
DTSTAMP:20260424T134403Z
DTSTART:20260928T093900Z
DTEND:20261001T093900Z
LOCATION:
SUMMARY:Polar code training
DESCRIPTION:IMO Polar Code regulation came into force 1st of January 2017. 
 It regulates all training and certification for officers working in Arctic/
 Antarctic regions. All SOLAS ships will be affected by this new regulation\
 ,  and officers must be STCW certified.\nhttps://labelleclasseacademy.com/e
 vents/polar-code-training-3/
URL:https://labelleclasseacademy.com/events/polar-code-training-3/
END:VEVENT
END:VCALENDAR