BEGIN:VCALENDAR
VERSION:2.0
PRODID:-//eventon.com NONSGML v1.0//EN
CALSCALE:GREGORIAN
METHOD:PUBLISH
BEGIN:VEVENT
UID:69eb732cb8fd3
DTSTAMP:20260424T134204Z
DTSTART:20260512T131700Z
DTEND:20260512T131700Z
LOCATION:
SUMMARY:HY-PLUG Sustainability Course
DESCRIPTION:HY-PLUG Sustainability Course\nhttps://labelleclasseacademy.com
 /events/hy-plug-sustainability-course-9/
URL:https://labelleclasseacademy.com/events/hy-plug-sustainability-course-9/
END:VEVENT
END:VCALENDAR