BEGIN:VCALENDAR
VERSION:2.0
PRODID:-//eventon.com NONSGML v1.0//EN
CALSCALE:GREGORIAN
METHOD:PUBLISH
BEGIN:VEVENT
UID:69ecebdf606fd
DTSTAMP:20260425T162919Z
DTSTART:20260512T151700Z
DTEND:20260512T151700Z
LOCATION:
SUMMARY:HY-PLUG Sustainability Course
DESCRIPTION:HY-PLUG Sustainability Course\nhttps://labelleclasseacademy.com
 /fr/events/hy-plug-sustainability-course-10/
URL:https://labelleclasseacademy.com/fr/events/hy-plug-sustainability-course-10/
END:VEVENT
END:VCALENDAR