BEGIN:VCALENDAR
VERSION:2.0
PRODID:-//eventon.com NONSGML v1.0//EN
CALSCALE:GREGORIAN
METHOD:PUBLISH
BEGIN:VEVENT
UID:69eced97bec06
DTSTAMP:20260425T163639Z
DTSTART:20260616T132500Z
DTEND:20260616T132500Z
LOCATION:
SUMMARY:HY-PLUG Sustainability Course
DESCRIPTION:HY-PLUG Sustainability Course\nhttps://labelleclasseacademy.com
 /fr/events/hy-plug-sustainability-course-14/
URL:https://labelleclasseacademy.com/fr/events/hy-plug-sustainability-course-14/
END:VEVENT
END:VCALENDAR