BEGIN:VCALENDAR
VERSION:2.0
PRODID:-//eventon.com NONSGML v1.0//EN
CALSCALE:GREGORIAN
METHOD:PUBLISH
BEGIN:VEVENT
UID:69eb747c1b733
DTSTAMP:20260424T134740Z
DTSTART:20260707T132700Z
DTEND:20260707T132700Z
LOCATION:
SUMMARY:HY-PLUG Sustainability Course
DESCRIPTION:HY-PLUG Sustainability Course\nhttps://labelleclasseacademy.com
 /events/hy-plug-sustainability-course-15/
URL:https://labelleclasseacademy.com/events/hy-plug-sustainability-course-15/
END:VEVENT
END:VCALENDAR