BEGIN:VCALENDAR
VERSION:2.0
PRODID:-//eventon.com NONSGML v1.0//EN
CALSCALE:GREGORIAN
METHOD:PUBLISH
BEGIN:VEVENT
UID:69eb746bb5def
DTSTAMP:20260424T134723Z
DTSTART:20260804T133000Z
DTEND:20260804T133000Z
LOCATION:
SUMMARY:HY-PLUG Sustainability Course
DESCRIPTION:HY-PLUG Sustainability Course\nhttps://labelleclasseacademy.com
 /events/hy-plug-sustainability-course-17/
URL:https://labelleclasseacademy.com/events/hy-plug-sustainability-course-17/
END:VEVENT
END:VCALENDAR