BEGIN:VCALENDAR
VERSION:2.0
PRODID:-//eventon.com NONSGML v1.0//EN
CALSCALE:GREGORIAN
METHOD:PUBLISH
BEGIN:VEVENT
UID:69eb73adb806b
DTSTAMP:20260424T134413Z
DTSTART:20260901T133200Z
DTEND:20260902T133200Z
LOCATION:
SUMMARY:HY-PLUG Sustainability Course
DESCRIPTION:HY-PLUG Sustainability Course\nhttps://labelleclasseacademy.com
 /events/hy-plug-sustainability-course-19/
URL:https://labelleclasseacademy.com/events/hy-plug-sustainability-course-19/
END:VEVENT
END:VCALENDAR