BEGIN:VCALENDAR
VERSION:2.0
PRODID:-//eventon.com NONSGML v1.0//EN
CALSCALE:GREGORIAN
METHOD:PUBLISH
BEGIN:VEVENT
UID:69eb75cf2032d
DTSTAMP:20260424T135319Z
DTSTART:20261103T143600Z
DTEND:20261103T143600Z
LOCATION:
SUMMARY:HY-PLUG Sustainability Course
DESCRIPTION:HY-PLUG Sustainability Course\nhttps://labelleclasseacademy.com
 /events/hy-plug-sustainability-course-23/
URL:https://labelleclasseacademy.com/events/hy-plug-sustainability-course-23/
END:VEVENT
END:VCALENDAR