BEGIN:VCALENDAR
VERSION:2.0
PRODID:-//eventon.com NONSGML v1.0//EN
CALSCALE:GREGORIAN
METHOD:PUBLISH
BEGIN:VEVENT
UID:69ecc676dfbeb
DTSTAMP:20260425T134942Z
DTSTART:20260622T135800Z
DTEND:20260626T135800Z
LOCATION:
SUMMARY:STCW Basic Safety Training
DESCRIPTION:STCW Basic Safety Training\nhttps://labelleclasseacademy.com/ev
 ents/stcw-basic-safety-training-4/
URL:https://labelleclasseacademy.com/events/stcw-basic-safety-training-4/
END:VEVENT
END:VCALENDAR