BEGIN:VCALENDAR
VERSION:2.0
PRODID:-//eventon.com NONSGML v1.0//EN
CALSCALE:GREGORIAN
METHOD:PUBLISH
BEGIN:VEVENT
UID:69ecc3f6105c2
DTSTAMP:20260425T133902Z
DTSTART:20260528T090500Z
DTEND:20260529T090500Z
LOCATION:
SUMMARY:Powerboat level 2
DESCRIPTION:Powerboat level 2\nhttps://labelleclasseacademy.com/fr/events/p
 owerboat-level-2-8/
URL:https://labelleclasseacademy.com/fr/events/powerboat-level-2-8/
END:VEVENT
END:VCALENDAR