BEGIN:VCALENDAR
VERSION:2.0
PRODID:-//eventon.com NONSGML v1.0//EN
CALSCALE:GREGORIAN
METHOD:PUBLISH
BEGIN:VEVENT
UID:69ecc5202acc3
DTSTAMP:20260425T134400Z
DTSTART:20260611T090800Z
DTEND:20260612T090800Z
LOCATION:
SUMMARY:Powerboat level 2
DESCRIPTION:Powerboat level 2\nhttps://labelleclasseacademy.com/fr/events/p
 owerboat-level-2-10/
URL:https://labelleclasseacademy.com/fr/events/powerboat-level-2-10/
END:VEVENT
END:VCALENDAR