BEGIN:VCALENDAR
VERSION:2.0
PRODID:-//eventon.com NONSGML v1.0//EN
CALSCALE:GREGORIAN
METHOD:PUBLISH
BEGIN:VEVENT
UID:69ecc6527238c
DTSTAMP:20260425T134906Z
DTSTART:20260518T080600Z
DTEND:20260526T080600Z
LOCATION:
SUMMARY:Permis côtier
DESCRIPTION:Du 18 mai au 26 mai 2026 – Session en français – Groupe\nh
 ttps://labelleclasseacademy.com/fr/events/permis-cotier-7/
URL:https://labelleclasseacademy.com/fr/events/permis-cotier-7/
END:VEVENT
END:VCALENDAR