BEGIN:VCALENDAR
VERSION:2.0
PRODID:-//eventon.com NONSGML v1.0//EN
CALSCALE:GREGORIAN
METHOD:PUBLISH
BEGIN:VEVENT
UID:69eb732bd00e4
DTSTAMP:20260424T134203Z
DTSTART:20260518T080600Z
DTEND:20260526T080600Z
LOCATION:
SUMMARY:Coastal license
DESCRIPTION:From May 18 to May 26\,  2026 – French session – Group\nhtt
 ps://labelleclasseacademy.com/events/coastal-license-7/
URL:https://labelleclasseacademy.com/events/coastal-license-7/
END:VEVENT
END:VCALENDAR