BEGIN:VCALENDAR
VERSION:2.0
PRODID:-//eventon.com NONSGML v1.0//EN
CALSCALE:GREGORIAN
METHOD:PUBLISH
BEGIN:VEVENT
UID:69eb7584c28e8
DTSTAMP:20260424T135204Z
DTSTART:20260625T154400Z
DTEND:20260626T154400Z
LOCATION:
SUMMARY:STCW training refresher
DESCRIPTION:STCW training refresher\nhttps://labelleclasseacademy.com/event
 s/stcw-training-refresher-2/
URL:https://labelleclasseacademy.com/events/stcw-training-refresher-2/
END:VEVENT
END:VCALENDAR