BEGIN:VCALENDAR
VERSION:2.0
PRODID:-//eventon.com NONSGML v1.0//EN
CALSCALE:GREGORIAN
METHOD:PUBLISH
BEGIN:VEVENT
UID:69eb75af42e6d
DTSTAMP:20260424T135247Z
DTSTART:20260727T104100Z
DTEND:20260731T104100Z
LOCATION:
SUMMARY:Summer Yachting Camp
DESCRIPTION:Summer Yachting Camp\nhttps://labelleclasseacademy.com/events/s
 ummer-yachting-camp/
URL:https://labelleclasseacademy.com/events/summer-yachting-camp/
END:VEVENT
END:VCALENDAR