BEGIN:VCALENDAR
VERSION:2.0
PRODID:-//eventon.com NONSGML v1.0//EN
CALSCALE:GREGORIAN
METHOD:PUBLISH
BEGIN:VEVENT
UID:69eceaf544b2b
DTSTAMP:20260425T162525Z
DTSTART:20260530T142200Z
DTEND:20260530T142200Z
LOCATION:
SUMMARY:Jetski PWC
DESCRIPTION:Jetski PWC\nhttps://labelleclasseacademy.com/fr/events/jetski-p
 wc-4/
URL:https://labelleclasseacademy.com/fr/events/jetski-pwc-4/
END:VEVENT
END:VCALENDAR