BEGIN:VCALENDAR
VERSION:2.0
PRODID:-//eventon.com NONSGML v1.0//EN
CALSCALE:GREGORIAN
METHOD:PUBLISH
BEGIN:VEVENT
UID:69ece99d223c7
DTSTAMP:20260425T161941Z
DTSTART:20260613T142300Z
DTEND:20260613T142300Z
LOCATION:
SUMMARY:Jetski PWC
DESCRIPTION:Jetski PWC\nhttps://labelleclasseacademy.com/fr/events/jetski-p
 wc-6/
URL:https://labelleclasseacademy.com/fr/events/jetski-pwc-6/
END:VEVENT
END:VCALENDAR